BEGIN:VCALENDAR
VERSION:2.0
PRODID:-//Alex Finlay Author - ECPv6.15.20//NONSGML v1.0//EN
CALSCALE:GREGORIAN
METHOD:PUBLISH
X-WR-CALNAME:Alex Finlay Author
X-ORIGINAL-URL:https://alexfinlaybooks.com
X-WR-CALDESC:Events for Alex Finlay Author
REFRESH-INTERVAL;VALUE=DURATION:PT1H
X-Robots-Tag:noindex
X-PUBLISHED-TTL:PT1H
BEGIN:VTIMEZONE
TZID:America/New_York
BEGIN:DAYLIGHT
TZOFFSETFROM:-0500
TZOFFSETTO:-0400
TZNAME:EDT
DTSTART:20250309T070000
END:DAYLIGHT
BEGIN:STANDARD
TZOFFSETFROM:-0400
TZOFFSETTO:-0500
TZNAME:EST
DTSTART:20251102T060000
END:STANDARD
BEGIN:DAYLIGHT
TZOFFSETFROM:-0500
TZOFFSETTO:-0400
TZNAME:EDT
DTSTART:20260308T070000
END:DAYLIGHT
BEGIN:STANDARD
TZOFFSETFROM:-0400
TZOFFSETTO:-0500
TZNAME:EST
DTSTART:20261101T060000
END:STANDARD
BEGIN:DAYLIGHT
TZOFFSETFROM:-0500
TZOFFSETTO:-0400
TZNAME:EDT
DTSTART:20270314T070000
END:DAYLIGHT
BEGIN:STANDARD
TZOFFSETFROM:-0400
TZOFFSETTO:-0500
TZNAME:EST
DTSTART:20271107T060000
END:STANDARD
END:VTIMEZONE
BEGIN:VEVENT
DTSTART;TZID=America/New_York:20260418T163000
DTEND;TZID=America/New_York:20260418T173000
DTSTAMP:20260419T145523
CREATED:20260305T202449Z
LAST-MODIFIED:20260311T155809Z
UID:1148-1776529800-1776533400@alexfinlaybooks.com
SUMMARY:Hamptons Whodunit
DESCRIPTION:Join Alex as he moderates a discussion with bestsellers David Ellis and Gregg Hurwitz on  Saturday\, April  18 at 4:30pm!   For the full schedule\, visit https://hamptonswhodunit.org/overview-schedule-2026
URL:https://alexfinlaybooks.com/event/hamptons-whodunit/
LOCATION:Village of East Hampton\, East Hampton\, NY\, 11937\, United States
ATTACH;FMTTYPE=image/webp:https://alexfinlaybooks.com/wp-content/uploads/2026/03/Whodunit-logo-black-and_white.webp
END:VEVENT
END:VCALENDAR